BEGIN:VCALENDAR
VERSION:2.0
PRODID:spatie/icalendar-generator
DESCRIPTION:Events from Westshore Village
X-WR-CALDESC:Events from Westshore Village
REFRESH-INTERVAL;VALUE=DURATION:PT1440M
X-PUBLISHED-TTL:PT1440M
BEGIN:VTIMEZONE
TZID:Etc/GMT+0
BEGIN:STANDARD
DTSTART:20200108T000000Z
TZOFFSETFROM:+0000
TZOFFSETTO:+0000
END:STANDARD
END:VTIMEZONE
BEGIN:VTIMEZONE
TZID:UTC
BEGIN:STANDARD
DTSTART:20250728T154741Z
TZOFFSETFROM:+0000
TZOFFSETTO:+0000
END:STANDARD
END:VTIMEZONE
BEGIN:VEVENT
UID:3473-1448
DTSTAMP:20260424T154741Z
SUMMARY:Cinnamon Roll Day
LOCATION:
ORGANIZER;CN=blogadmin:MAILTO:info@westshorevillage.ca
DTSTART;TZID=Etc/GMT+0;VALUE=DATE:20201004
DTEND;TZID=Etc/GMT+0;VALUE=DATE:20201005
X-ALT-DESC;FMTTYPE=TEXT/HTML:
CATEGORIES:General
URL;VALUE=URI:https://westshorevillage.ca/mc-events/cinnamon-roll-day/
METHOD:PUBLISH
END:VEVENT
END:VCALENDAR