BEGIN:VCALENDAR
VERSION:2.0
METHOD:PUBLISH
PRODID:-//Accessible Web Design//My Calendar//http://www.joedolson.com//v//EN';
BEGIN:VEVENT
UID:3587-1484
LOCATION:3rd Floor
SUMMARY:Yoga with Kendra
DTSTAMP:20201009T100000
ORGANIZER;CN=blogadmin:MAILTO:info@westshorevillage.ca
DTSTART:20201009T100000
DTEND:20201009T110000
CATEGORIES:General
URL;VALUE=URI:https://westshorevillage.ca/mc-events/yoga-with-kendra-22/?mc_id=3587
DESCRIPTION:
END:VEVENT
END:VCALENDAR