BEGIN:VCALENDAR
VERSION:2.0
METHOD:PUBLISH
PRODID:-//Accessible Web Design//My Calendar//http://www.joedolson.com//v//EN';
BEGIN:VEVENT
UID:76859-1753
LOCATION:3rd Floor
SUMMARY:Exercise with Louise
DTSTAMP:20251119T100000
ORGANIZER;CN=blogadmin:MAILTO:info@westshorevillage.ca
DTSTART:20251119T100000
DTEND:20251119T110000
CATEGORIES:General
URL;VALUE=URI:https://westshorevillage.ca/mc-events/exercise-with-louise-31/?mc_id=76859
DESCRIPTION:
END:VEVENT
END:VCALENDAR