BEGIN:VCALENDAR
VERSION:2.0
PRODID:spatie/icalendar-generator
DESCRIPTION:Events from Westshore Village
X-WR-CALDESC:Events from Westshore Village
REFRESH-INTERVAL;VALUE=DURATION:PT1440M
X-PUBLISHED-TTL:PT1440M
BEGIN:VTIMEZONE
TZID:Etc/GMT+0
BEGIN:STANDARD
DTSTART:20180715T150000Z
TZOFFSETFROM:+0000
TZOFFSETTO:+0000
END:STANDARD
END:VTIMEZONE
BEGIN:VTIMEZONE
TZID:UTC
BEGIN:STANDARD
DTSTART:20250727T084324Z
TZOFFSETFROM:+0000
TZOFFSETTO:+0000
END:STANDARD
END:VTIMEZONE
BEGIN:VEVENT
UID:793-346
DTSTAMP:20260423T084324Z
SUMMARY:Pub Social 3rd Floor
LOCATION:
ORGANIZER;CN=blogadmin:MAILTO:info@westshorevillage.ca
DTSTART;TZID=Etc/GMT+0:20190411T150000
DTEND;TZID=Etc/GMT+0:20190411T160000
X-ALT-DESC;FMTTYPE=TEXT/HTML:
CATEGORIES:General
URL;VALUE=URI:https://westshorevillage.ca/mc-events/pub-social-3rd-floor-8/
METHOD:PUBLISH
END:VEVENT
END:VCALENDAR