BEGIN:VCALENDAR
VERSION:2.0
METHOD:PUBLISH
PRODID:-//Accessible Web Design//My Calendar//http://www.joedolson.com//v//EN';
BEGIN:VEVENT
UID:80-23
LOCATION:3rd Floor
SUMMARY:Pub Social
DTSTAMP:20181204T150000
ORGANIZER;CN=admin:MAILTO:wordpress@cmswebsolutions.com
DTSTART:20181204T150000
DTEND:20181204T160000
CATEGORIES:General
URL;VALUE=URI:https://westshorevillage.ca/mc-events/pub-social-2/?mc_id=80
DESCRIPTION:
END:VEVENT
END:VCALENDAR