BEGIN:VCALENDAR
VERSION:2.0
METHOD:PUBLISH
PRODID:-//Accessible Web Design//My Calendar//http://www.joedolson.com//v//EN';
BEGIN:VEVENT
UID:1160-560
LOCATION:
SUMMARY:Bungalow Chat
DTSTAMP:20190626T091500
ORGANIZER;CN=blogadmin:MAILTO:info@westshorevillage.ca
DTSTART:20190626T091500
DTEND:20190626T101500
CATEGORIES:General
URL;VALUE=URI:https://westshorevillage.ca/mc-events/bungalow-chat-3/?mc_id=1160
DESCRIPTION:
END:VEVENT
END:VCALENDAR