BEGIN:VCALENDAR
VERSION:2.0
METHOD:PUBLISH
PRODID:-//Accessible Web Design//My Calendar//http://www.joedolson.com//v//EN';
BEGIN:VEVENT
UID:83501-2266
LOCATION:Front Porch
SUMMARY:Wal-Mart (weather permitting)
DTSTAMP:20260309T090000
ORGANIZER;CN=blogadmin:MAILTO:info@westshorevillage.ca
DTSTART:20260309T090000
DTEND:20260309T104500
CATEGORIES:General
URL;VALUE=URI:https://westshorevillage.ca/mc-events/wal-mart-weather-permitting-8/?mc_id=83501
DESCRIPTION:
END:VEVENT
END:VCALENDAR