BEGIN:VCALENDAR
VERSION:2.0
METHOD:PUBLISH
PRODID:-//Accessible Web Design//My Calendar//http://www.joedolson.com//v//EN';
BEGIN:VEVENT
UID:83538-2303
LOCATION:3rd Floor
SUMMARY:Movie Matinee
DTSTAMP:20260316T130000
ORGANIZER;CN=blogadmin:MAILTO:info@westshorevillage.ca
DTSTART:20260316T130000
DTEND:20260316T153000
CATEGORIES:General
URL;VALUE=URI:https://westshorevillage.ca/mc-events/movie-matinee-69/?mc_id=83538
DESCRIPTION:
END:VEVENT
END:VCALENDAR